BEGIN:VCALENDAR
VERSION:2.0
PRODID:-//ChamberMaster//Event Calendar 2.0//EN
METHOD:PUBLISH
X-PUBLISHED-TTL:P3D
REFRESH-INTERVAL:P3D
CALSCALE:GREGORIAN
BEGIN:VEVENT
DTSTART:20140412T180000Z
DTEND:20140412T190000Z
X-MICROSOFT-CDO-ALLDAYEVENT:FALSE
SUMMARY:York College Traveling Theater - Seward Memorial Library
DESCRIPTION:York College Traveling Theater - Seward Memorial Library\n\n\n\nhttp://www.sewardlibrary.org/
X-ALT-DESC;FMTTYPE=text/html:York College Traveling Theater - Seward Memorial Library<br />\n<br />\n<a href="http://www.sewardlibrary.org/">http://www.sewardlibrary.org/</a>
LOCATION:Seward Memorial Library 233 South 5th Seward \, NE
UID:e.865.3544
SEQUENCE:3
DTSTAMP:20260421T114906Z
URL:https://business.cultivatesewardcounty.com/events/details/york-college-traveling-theater-seward-memorial-library-04-12-2014-3544
END:VEVENT

END:VCALENDAR
