BEGIN:VCALENDAR
VERSION:2.0
PRODID:-//ChamberMaster//Event Calendar 2.0//EN
METHOD:PUBLISH
X-PUBLISHED-TTL:P3D
REFRESH-INTERVAL:P3D
CALSCALE:GREGORIAN
BEGIN:VEVENT
DTSTART:20120713T000000Z
DTEND:20120713T010000Z
X-MICROSOFT-CDO-ALLDAYEVENT:FALSE
SUMMARY:Writing as a Nebraskan . . . a life story in the Heartland
DESCRIPTION:Seward Memorial Library will host an evening with Nebraska author Lisa Knopp\, an associate professor at UNL-Omaha. Lisa writes personal essays about the Midwest and Great Plains and will speak about her experiences doing research for her life story. Her recent book\, "What the River Carries: Encounters with the Mississippi\, Missouri\, and Platte\," will be available for purchase.
X-ALT-DESC;FMTTYPE=text/html:Seward Memorial Library will host an evening with Nebraska author Lisa Knopp\, an associate professor at UNL-Omaha. Lisa writes personal essays about the Midwest and Great Plains and will speak about her experiences doing research for her life story. Her recent book\, &quot\;What the River Carries: Encounters with the Mississippi\, Missouri\, and Platte\,&quot\; will be available for purchase.
LOCATION:Seward Memorial Library
UID:e.865.1674
SEQUENCE:3
DTSTAMP:20260422T155710Z
URL:https://business.cultivatesewardcounty.com/events/details/writing-as-a-nebraskan-a-life-story-in-the-heartland-07-12-2012-1674
END:VEVENT

END:VCALENDAR
