BEGIN:VCALENDAR
VERSION:2.0
PRODID:-//ChamberMaster//Event Calendar 2.0//EN
METHOD:PUBLISH
X-PUBLISHED-TTL:P3D
REFRESH-INTERVAL:P3D
CALSCALE:GREGORIAN
BEGIN:VEVENT
DTSTART:20131221T010000Z
DTEND:20131221T020000Z
X-MICROSOFT-CDO-ALLDAYEVENT:FALSE
SUMMARY:Wissmann Family Concert 12/20/2013
DESCRIPTION:Wissmann Family Concert
X-ALT-DESC;FMTTYPE=text/html:Wissmann Family Concert
LOCATION:Olde Glory Theater 4th & Jackson Avenue Seward\, NE
UID:e.865.3326
SEQUENCE:3
DTSTAMP:20260421T163325Z
URL:https://business.cultivatesewardcounty.com/events/details/wissmann-family-concert-12-20-2013-12-20-2013-3326
END:VEVENT

END:VCALENDAR
