BEGIN:VCALENDAR
VERSION:2.0
PRODID:-//ChamberMaster//Event Calendar 2.0//EN
METHOD:PUBLISH
X-PUBLISHED-TTL:P3D
REFRESH-INTERVAL:P3D
CALSCALE:GREGORIAN
BEGIN:VEVENT
DTSTART:20131221T160000Z
DTEND:20131222T000000Z
X-MICROSOFT-CDO-ALLDAYEVENT:FALSE
SUMMARY:Winter Wonderland Open
DESCRIPTION:Winter Wonderland Open \n\n\n\nhttp://www.sewardne.com
X-ALT-DESC;FMTTYPE=text/html:Winter Wonderland Open&nbsp\;<br />\n<br />\n<a href="http://www.sewardne.com">http://www.sewardne.com</a>
LOCATION:418 Seward Street Seward\, NE
UID:e.865.3357
SEQUENCE:3
DTSTAMP:20260421T162905Z
URL:https://business.cultivatesewardcounty.com/events/details/winter-wonderland-open-12-21-2013-3357
END:VEVENT

END:VCALENDAR
