BEGIN:VCALENDAR
VERSION:2.0
PRODID:-//ChamberMaster//Event Calendar 2.0//EN
METHOD:PUBLISH
X-PUBLISHED-TTL:P3D
REFRESH-INTERVAL:P3D
CALSCALE:GREGORIAN
BEGIN:VEVENT
DTSTART:20130828T230000Z
DTEND:20130829T010000Z
X-MICROSOFT-CDO-ALLDAYEVENT:FALSE
SUMMARY:Wednedsay Night Dinner Rides
DESCRIPTION:Bike Riders Wednesday Night Dinner Rides - An opportunity for all area bikers to go for a ride\, enjoy some fellowship and eat some food.  Rides leave Hillcrest E-Free Church located on S. Hwy 15 by McDonald's.  Leave promptly at 6:00 pm so try to be there 15 minutes early\, fueled and ready to go.
X-ALT-DESC;FMTTYPE=text/html:Bike Riders Wednesday Night Dinner Rides - An opportunity for all area bikers to go for a ride\, enjoy some fellowship and eat some food.&nbsp\; Rides leave Hillcrest E-Free Church located on S. Hwy 15 by McDonald&#39\;s.&nbsp\; Leave promptly at 6:00 pm so try to be there 15 minutes early\, fueled and ready to go.&nbsp\; 
LOCATION:Meet at Hillcrest E-Free Church on South Hwy 15 by McDonald's and travel to area communities for a meal.
UID:e.865.2859
SEQUENCE:3
DTSTAMP:20260421T231002Z
URL:https://business.cultivatesewardcounty.com/events/details/wednedsay-night-dinner-rides-08-28-2013-2859
END:VEVENT

END:VCALENDAR
