BEGIN:VCALENDAR
VERSION:2.0
PRODID:-//ChamberMaster//Event Calendar 2.0//EN
METHOD:PUBLISH
X-PUBLISHED-TTL:P3D
REFRESH-INTERVAL:P3D
CALSCALE:GREGORIAN
BEGIN:VEVENT
DTSTART:20140202T153000Z
DTEND:20140202T183000Z
X-MICROSOFT-CDO-ALLDAYEVENT:FALSE
SUMMARY:Waffleman Fundraiser
DESCRIPTION:Waffleman Fundraiser  -  all proceeds from this event will go toward 4-H scholarships and other support of youth.  The 2013 scholarships to 4-H seniors will be presented at noon.\n\nKolaches from Wilber will also be available to purchase for as long as they last during the event.
X-ALT-DESC;FMTTYPE=text/html:Waffleman Fundraiser&nbsp\; -&nbsp\; all proceeds from this event will go toward 4-H scholarships and other support of youth.&nbsp\; The 2013 scholarships to 4-H seniors will be presented at noon.<br />\nKolaches from Wilber will also be available to purchase for as long as they last during the event.
LOCATION:Seward County Fairgrounds Harvest Hall 500 North 14th St. Seward\, NE
UID:e.865.3434
SEQUENCE:3
DTSTAMP:20260421T141657Z
URL:https://business.cultivatesewardcounty.com/events/details/waffleman-fundraiser-02-02-2014-3434
END:VEVENT

END:VCALENDAR
