BEGIN:VCALENDAR
VERSION:2.0
PRODID:-//ChamberMaster//Event Calendar 2.0//EN
METHOD:PUBLISH
X-PUBLISHED-TTL:P3D
REFRESH-INTERVAL:P3D
CALSCALE:GREGORIAN
BEGIN:VEVENT
DTSTART:20131017T000000Z
DTEND:20131017T010000Z
X-MICROSOFT-CDO-ALLDAYEVENT:FALSE
SUMMARY:Victim's Advocate Candlelight Vigil
DESCRIPTION:Victim's Advocate Candlelight Vigil - a display of silhouettes will be visible on the courthouse lawn from October 14th through October 18th for Domestic Violence Awareness.
X-ALT-DESC;FMTTYPE=text/html:Victim&#39\;s Advocate Candlelight Vigil - a display of silhouettes will be visible on the courthouse lawn from October 14th through October 18th for Domestic Violence Awareness.&nbsp\; 
LOCATION:Seward County Courthouse Lawn Center of town Seward\, NE
UID:e.865.2914
SEQUENCE:3
DTSTAMP:20260421T193132Z
URL:https://business.cultivatesewardcounty.com/events/details/victim-s-advocate-candlelight-vigil-10-16-2013-2914
END:VEVENT

END:VCALENDAR
