BEGIN:VCALENDAR
VERSION:2.0
PRODID:-//ChamberMaster//Event Calendar 2.0//EN
METHOD:PUBLISH
X-PUBLISHED-TTL:P3D
REFRESH-INTERVAL:P3D
CALSCALE:GREGORIAN
BEGIN:VEVENT
DTSTART:20140419T190000Z
DTEND:20140419T200000Z
X-MICROSOFT-CDO-ALLDAYEVENT:FALSE
SUMMARY:VFW Easter Egg Hunt
DESCRIPTION:VFW Easter Egg Hunt
X-ALT-DESC;FMTTYPE=text/html:VFW Easter Egg Hunt
LOCATION:Seward Soccer Fields Plum Creek Sports Complex 2222 Karol Kay Blvd. Seward\, NE
UID:e.865.3601
SEQUENCE:3
DTSTAMP:20260421T112645Z
URL:https://business.cultivatesewardcounty.com/events/details/vfw-easter-egg-hunt-04-19-2014-3601
END:VEVENT

END:VCALENDAR
