BEGIN:VCALENDAR
VERSION:2.0
PRODID:-//ChamberMaster//Event Calendar 2.0//EN
METHOD:PUBLISH
X-PUBLISHED-TTL:P3D
REFRESH-INTERVAL:P3D
CALSCALE:GREGORIAN
BEGIN:VEVENT
DTSTART:20130330T190000Z
DTEND:20130330T200000Z
X-MICROSOFT-CDO-ALLDAYEVENT:FALSE
SUMMARY:VFW Easter Egg Hunt
DESCRIPTION:VFW Easter Egg Hunt
X-ALT-DESC;FMTTYPE=text/html:VFW Easter Egg Hunt
LOCATION:Seward Soccer Fields Plum Creek Sports Complex 2222 Karol Kay Blvd. Seward\, NE
UID:e.865.1906
SEQUENCE:3
DTSTAMP:20260422T043625Z
URL:https://business.cultivatesewardcounty.com/events/details/vfw-easter-egg-hunt-03-30-2013-1906
END:VEVENT

END:VCALENDAR
