BEGIN:VCALENDAR
VERSION:2.0
PRODID:-//ChamberMaster//Event Calendar 2.0//EN
METHOD:PUBLISH
X-PUBLISHED-TTL:P3D
REFRESH-INTERVAL:P3D
CALSCALE:GREGORIAN
BEGIN:VEVENT
DTSTART:20130718T210000Z
DTEND:20130718T230000Z
X-MICROSOFT-CDO-ALLDAYEVENT:FALSE
SUMMARY:Veterans Benefits Seminar
DESCRIPTION:Veterans Benefit Seminar\n\nThursday\, July 18th\n\n4:00 pm\n\nPresented by Jeff Baker\n\nSeward County Veterans Office\n\nFree Meal and Entertainment
X-ALT-DESC;FMTTYPE=text/html:Veterans Benefit Seminar<br />\nThursday\, July 18th<br />\n4:00 pm<br />\nPresented by Jeff Baker<br />\nSeward County Veterans Office<br />\nFree Meal and Entertainment
LOCATION:
UID:e.865.2869
SEQUENCE:3
DTSTAMP:20260421T231017Z
URL:https://business.cultivatesewardcounty.com/events/details/veterans-benefits-seminar-07-18-2013-2869
END:VEVENT

END:VCALENDAR
