BEGIN:VCALENDAR
VERSION:2.0
PRODID:-//ChamberMaster//Event Calendar 2.0//EN
METHOD:PUBLISH
X-PUBLISHED-TTL:P3D
REFRESH-INTERVAL:P3D
CALSCALE:GREGORIAN
BEGIN:VEVENT
DTSTART:20130715T233000Z
DTEND:20130720T014500Z
X-MICROSOFT-CDO-ALLDAYEVENT:FALSE
SUMMARY:Vacation Bible School at Hillcrest Evangelical Free Church
DESCRIPTION:Vacation Bible School at Hillcrest Evangelical Free Church for grades pre-school through 6th grade.
X-ALT-DESC;FMTTYPE=text/html:Vacation Bible School at Hillcrest Evangelical Free Church for grades pre-school through 6th grade.
LOCATION:Hillcrest Evangelical Free Church 2433 Progressive Road Seward\, NE
UID:e.865.2097
SEQUENCE:3
DTSTAMP:20260422T003321Z
URL:https://business.cultivatesewardcounty.com/events/details/vacation-bible-school-at-hillcrest-evangelical-free-church-07-15-2013-2097
END:VEVENT

END:VCALENDAR
