BEGIN:VCALENDAR
VERSION:2.0
PRODID:-//ChamberMaster//Event Calendar 2.0//EN
METHOD:PUBLISH
X-PUBLISHED-TTL:P3D
REFRESH-INTERVAL:P3D
CALSCALE:GREGORIAN
BEGIN:VEVENT
DTSTART;VALUE=DATE:20130726
DTEND;VALUE=DATE:20130729
TRANSP:TRANSPARENT
X-MICROSOFT-CDO-ALLDAYEVENT:TRUE
SUMMARY:Utica Heritage Days\, beginning Friday evening
DESCRIPTION:Utica Heritage Days beginning with honoring the 125th anniversary of the Utica Fire Department at Utica Auditorium\, followed by a street dance with live music.  Saturday there will be garage sales throughout the community\, parade at 4:00 pm\, Kiddie Tractor Pull at 5:00 pm\, followed by an adult tractor pull and ending with a street dance with live music.  Sunday begins with a breakfast\, then Rib Cook Off at Pool Park at 5:00 pm and free entertainment at the High School Auditorium at 7:00 pm
X-ALT-DESC;FMTTYPE=text/html:Utica Heritage Days beginning with honoring the 125th anniversary of the Utica Fire Department at Utica Auditorium\, followed by a street dance with live music.&nbsp\; Saturday there will be garage sales throughout the community\, parade at 4:00 pm\, Kiddie Tractor Pull at 5:00 pm\, followed by an adult tractor pull and ending with a street dance with live music.&nbsp\; Sunday begins with a breakfast\, then Rib Cook Off at Pool Park at 5:00 pm and free entertainment at the High School Auditorium at 7:00 pm
LOCATION:Throughout the community
UID:e.865.2850
SEQUENCE:3
DTSTAMP:20260421T231044Z
URL:https://business.cultivatesewardcounty.com/events/details/utica-heritage-days-beginning-friday-evening-07-26-2013-2850
END:VEVENT

END:VCALENDAR
