BEGIN:VCALENDAR
VERSION:2.0
PRODID:-//ChamberMaster//Event Calendar 2.0//EN
METHOD:PUBLISH
X-PUBLISHED-TTL:P3D
REFRESH-INTERVAL:P3D
CALSCALE:GREGORIAN
BEGIN:VEVENT
DTSTART:20110906T210000Z
DTEND:20110906T233000Z
X-MICROSOFT-CDO-ALLDAYEVENT:FALSE
SUMMARY:Utica Family Medical Center Community BBQ
DESCRIPTION:Utica Family Medical Center Community BBQ
X-ALT-DESC;FMTTYPE=text/html:Utica Family Medical Center Community BBQ
LOCATION:Utica Family Medical Center\, 100 4th St.\, Utica\, NE
UID:e.865.1141
SEQUENCE:3
DTSTAMP:20260424T172350Z
URL:https://business.cultivatesewardcounty.com/events/details/utica-family-medical-center-community-bbq-09-06-2011-1141
END:VEVENT

END:VCALENDAR
