BEGIN:VCALENDAR
VERSION:2.0
PRODID:-//ChamberMaster//Event Calendar 2.0//EN
METHOD:PUBLISH
X-PUBLISHED-TTL:P3D
REFRESH-INTERVAL:P3D
CALSCALE:GREGORIAN
BEGIN:VEVENT
DTSTART:20130330T180000Z
DTEND:20130330T190000Z
X-MICROSOFT-CDO-ALLDAYEVENT:FALSE
SUMMARY:Utica Commerical Club Egg Hunt
DESCRIPTION:Utica Commercial Club Egg Hunt
X-ALT-DESC;FMTTYPE=text/html:Utica Commercial Club Egg Hunt<br />\n
LOCATION:Utica Park by the pool Utica\, NE
UID:e.865.1907
SEQUENCE:3
DTSTAMP:20260422T044323Z
URL:https://business.cultivatesewardcounty.com/events/details/utica-commerical-club-egg-hunt-03-30-2013-1907
END:VEVENT

END:VCALENDAR
