BEGIN:VCALENDAR
VERSION:2.0
PRODID:-//ChamberMaster//Event Calendar 2.0//EN
METHOD:PUBLISH
X-PUBLISHED-TTL:P3D
REFRESH-INTERVAL:P3D
CALSCALE:GREGORIAN
BEGIN:VEVENT
DTSTART:20110704T140000Z
DTEND:20110704T170000Z
X-MICROSOFT-CDO-ALLDAYEVENT:FALSE
SUMMARY:Used Book Bash
DESCRIPTION:Friends of Seward Library will host a Used Book Bash in Seward Memorial Library from 9 am - Noon.  Books pulled from the library collection as well as other donated items will be available for purchase.
X-ALT-DESC;FMTTYPE=text/html:Friends of Seward Library will host a Used Book Bash in Seward Memorial Library from 9 am - Noon.&nbsp\; Books pulled from the library collection as well as other donated items will be available for purchase.&nbsp\; 
LOCATION:Seward Memorial Library 233 S 5th St. Use West entrance
UID:e.865.1120
SEQUENCE:3
DTSTAMP:20260424T202147Z
URL:https://business.cultivatesewardcounty.com/events/details/used-book-bash-07-04-2011-1120
END:VEVENT

END:VCALENDAR
