BEGIN:VCALENDAR
VERSION:2.0
PRODID:-//ChamberMaster//Event Calendar 2.0//EN
METHOD:PUBLISH
X-PUBLISHED-TTL:P3D
REFRESH-INTERVAL:P3D
CALSCALE:GREGORIAN
BEGIN:VEVENT
DTSTART:20120414T000000Z
DTEND:20120414T020000Z
X-MICROSOFT-CDO-ALLDAYEVENT:FALSE
SUMMARY:University Symphonic Band concert
DESCRIPTION:The Symphonic Band was formed in 1906 and is the oldest continuing musical organization at Concordia. The ensemble has undertaken vigorous concert programs emphasizing sacred\, multicultural and contemporary literature in addition to the traditional concert band repertoire. The Symphonic Band\, Concordia's premier instrumental organization\, tours throughout the United States.
X-ALT-DESC;FMTTYPE=text/html:The Symphonic Band was formed in 1906 and is the oldest continuing musical organization at Concordia. The ensemble has undertaken vigorous concert programs emphasizing sacred\, multicultural and contemporary literature in addition to the traditional concert band repertoire. The Symphonic Band\, Concordia&rsquo\;s premier instrumental organization\, tours throughout the United States.
LOCATION:Seward High School
UID:e.865.1369
SEQUENCE:3
DTSTAMP:20260422T201231Z
URL:https://business.cultivatesewardcounty.com/events/details/university-symphonic-band-concert-04-13-2012-1369
END:VEVENT

END:VCALENDAR
