BEGIN:VCALENDAR
VERSION:2.0
PRODID:-//ChamberMaster//Event Calendar 2.0//EN
METHOD:PUBLISH
X-PUBLISHED-TTL:P3D
REFRESH-INTERVAL:P3D
CALSCALE:GREGORIAN
BEGIN:VEVENT
DTSTART:20120501T000000Z
DTEND:20120501T010000Z
X-MICROSOFT-CDO-ALLDAYEVENT:FALSE
SUMMARY:University Concert Band Performance
DESCRIPTION:The University Concert Band is an outreach to the community and is made up of students and area community members.
X-ALT-DESC;FMTTYPE=text/html:The University Concert Band is an outreach to the community and is made up of students and area community members.
LOCATION:Weller Auditorium
UID:e.865.1389
SEQUENCE:3
DTSTAMP:20260422T201016Z
URL:https://business.cultivatesewardcounty.com/events/details/university-concert-band-performance-04-30-2012-1389
END:VEVENT

END:VCALENDAR
