BEGIN:VCALENDAR
VERSION:2.0
PRODID:-//ChamberMaster//Event Calendar 2.0//EN
METHOD:PUBLISH
X-PUBLISHED-TTL:P3D
REFRESH-INTERVAL:P3D
CALSCALE:GREGORIAN
BEGIN:VEVENT
DTSTART:20120426T000000Z
DTEND:20120426T020000Z
X-MICROSOFT-CDO-ALLDAYEVENT:FALSE
SUMMARY:University Chamber Orchestra concert
DESCRIPTION:
X-ALT-DESC;FMTTYPE=text/html:
LOCATION:Recital Hall\, Music Building\, Concordia University
UID:e.865.1371
SEQUENCE:3
DTSTAMP:20260422T201144Z
URL:https://business.cultivatesewardcounty.com/events/details/university-chamber-orchestra-concert-04-25-2012-1371
END:VEVENT

END:VCALENDAR
