BEGIN:VCALENDAR
VERSION:2.0
PRODID:-//ChamberMaster//Event Calendar 2.0//EN
METHOD:PUBLISH
X-PUBLISHED-TTL:P3D
REFRESH-INTERVAL:P3D
CALSCALE:GREGORIAN
BEGIN:VEVENT
DTSTART:20120309T010000Z
DTEND:20120309T030000Z
X-MICROSOFT-CDO-ALLDAYEVENT:FALSE
SUMMARY:University Chamber Orchestra concert
DESCRIPTION:Concordia's newest musical ensemble\, the Chamber Orchestra\, will take the stage Thursday\, March 8\, at 7 p.m. in the Music Center's recital hall\, for its third full concert of the season. The concert is free and open to the public.\n\n\n\nConducted by Dr. Christopher Nichols\, the orchestra will perform pieces from three different periods in musical history. The first piece in the orchestra's repertoire is "Overture to Coriolanus" by Ludwig van Beethoven. This programmatic work depicts the plot of Heinrich Joseph von Collin's Coriolanus\, a story resulting in the title character's demise.\n\n\n\nThe orchestra will also present "Symphony in F major" by Carl Philip Emanuel Bach\, son of composer Johann Sebastian Bach. "Symphony" illustrates the transition between the baroque and classical periods of music.\n\n\n\nFinally\, the ensemble will play Anton n Dvo  k's "Czech Suite\," an arrangement in five movements. This piece includes the musical styles of traditional Czech dances and also depicts the flowing rivers and hilly landscape of Bohemia.
X-ALT-DESC;FMTTYPE=text/html:Concordia&rsquo\;s newest musical ensemble\, the Chamber Orchestra\, will take the stage Thursday\, March 8\, at 7 p.m. in the Music Center&rsquo\;s recital hall\, for its third full concert of the season. The concert is free and open to the public.<br />\n<br />\nConducted by Dr. Christopher Nichols\, the orchestra will perform pieces from three different periods in musical history. The first piece in the orchestra&rsquo\;s repertoire is &ldquo\;Overture to Coriolanus&rdquo\; by Ludwig van Beethoven. This programmatic work depicts the plot of Heinrich Joseph von Collin&rsquo\;s Coriolanus\, a story resulting in the title character&rsquo\;s demise.<br />\n<br />\nThe orchestra will also present &ldquo\;Symphony in F major&rdquo\; by Carl Philip Emanuel Bach\, son of composer Johann Sebastian Bach. &ldquo\;Symphony&rdquo\; illustrates the transition between the baroque and classical periods of music.<br />\n<br />\nFinally\, the ensemble will play Anton&iacute\;n Dvo&#345\;&aacute\;k&rsquo\;s &ldquo\;Czech Suite\,&rdquo\; an arrangement in five movements. This piece includes the musical styles of traditional Czech dances and also depicts the flowing rivers and hilly landscape of Bohemia.
LOCATION:Recital Hall\, Music Building\, Concordia University
UID:e.865.1364
SEQUENCE:3
DTSTAMP:20260424T083159Z
URL:https://business.cultivatesewardcounty.com/events/details/university-chamber-orchestra-concert-03-08-2012-1364
END:VEVENT

END:VCALENDAR
