BEGIN:VCALENDAR
VERSION:2.0
PRODID:-//ChamberMaster//Event Calendar 2.0//EN
METHOD:PUBLISH
X-PUBLISHED-TTL:P3D
REFRESH-INTERVAL:P3D
CALSCALE:GREGORIAN
BEGIN:VEVENT
DTSTART:20120219T210000Z
DTEND:20120219T230000Z
X-MICROSOFT-CDO-ALLDAYEVENT:FALSE
SUMMARY:University Chamber Choir Concert
DESCRIPTION:Concordia's University Chamber Choir was formed in the fall of 1998 and has gained a reputation for excellence in the singing of vocal chamber music. The 16-voice choir has traveled extensively throughout the United States\, with concert tours to Florida\, Arizona\, California\, Colorado\, and throughout the Midwest. The select choir\, chosen from the 70-voice University A Cappella Choir\, sings a diverse repertoire of sacred and secular choral music from many historical periods.
X-ALT-DESC;FMTTYPE=text/html:Concordia&#39\;s University Chamber Choir was formed in the fall of 1998 and has gained a reputation for excellence in the singing of vocal chamber music. The 16-voice choir has traveled extensively throughout the United States\, with concert tours to Florida\, Arizona\, California\, Colorado\, and throughout the Midwest. The select choir\, chosen from the 70-voice University A Cappella Choir\, sings a diverse repertoire of sacred and secular choral music from many historical periods.
LOCATION:St. John Lutheran Church
UID:e.865.1350
SEQUENCE:3
DTSTAMP:20260424T100112Z
URL:https://business.cultivatesewardcounty.com/events/details/university-chamber-choir-concert-02-19-2012-1350
END:VEVENT

END:VCALENDAR
