BEGIN:VCALENDAR
VERSION:2.0
PRODID:-//ChamberMaster//Event Calendar 2.0//EN
METHOD:PUBLISH
X-PUBLISHED-TTL:P3D
REFRESH-INTERVAL:P3D
CALSCALE:GREGORIAN
BEGIN:VEVENT
DTSTART:20120325T200000Z
DTEND:20120325T220000Z
X-MICROSOFT-CDO-ALLDAYEVENT:FALSE
SUMMARY:University A Cappella Choir concert
DESCRIPTION:Concordia University's A Cappella Choir has been performing concerts and joining congregations in worship for over 70 years. One of this country's oldest touring Lutheran college choirs\, the A Cappella Choir has performed extensively throughout the United States (including Hawaii)\, and internationally in Greece\, Italy\, France\, Egypt\, Israel\, Lebanon\, India\, Thailand\, Hong Kong\, Taiwan\, Japan\, the Philippines\, Germany\, Czech Republic\, Slovakia\, Austria\, Spain\, Mexico and Australia.\n\n\n\nThe 65-voice choir is chosen by audition each fall. Student membership is comprised of majors from most academic disciplines representing 15 different states and 1 foreign country. Over 150 students audition each fall for a spot in the internationally renowned concert choir.
X-ALT-DESC;FMTTYPE=text/html:Concordia University&rsquo\;s A Cappella Choir has been performing concerts and joining congregations in worship for over 70 years. One of this country&rsquo\;s oldest touring Lutheran college choirs\, the A Cappella Choir has performed extensively throughout the United States (including Hawaii)\, and internationally in Greece\, Italy\, France\, Egypt\, Israel\, Lebanon\, India\, Thailand\, Hong Kong\, Taiwan\, Japan\, the Philippines\, Germany\, Czech Republic\, Slovakia\, Austria\, Spain\, Mexico and Australia.<br />\n<br />\nThe 65-voice choir is chosen by audition each fall. Student membership is comprised of majors from most academic disciplines representing 15 different states and 1 foreign country. Over 150 students audition each fall for a spot in the internationally renowned concert choir.&nbsp\;
LOCATION:St. John Lutheran Church\, 919 N. Columbia
UID:e.865.1365
SEQUENCE:3
DTSTAMP:20260424T083056Z
URL:https://business.cultivatesewardcounty.com/events/details/university-a-cappella-choir-concert-03-25-2012-1365
END:VEVENT

END:VCALENDAR
