BEGIN:VCALENDAR
VERSION:2.0
PRODID:-//ChamberMaster//Event Calendar 2.0//EN
METHOD:PUBLISH
X-PUBLISHED-TTL:P3D
REFRESH-INTERVAL:P3D
CALSCALE:GREGORIAN
BEGIN:VEVENT
DTSTART:20131125T043000Z
DTEND:20131125T053000Z
X-MICROSOFT-CDO-ALLDAYEVENT:FALSE
SUMMARY:United Methodist Thanksgiving Service "We Gather Together"
DESCRIPTION:United Methodist Church Thanksgiving Service  "We Gather Together" featuring Alex Sommerfeld\, accomplished pianist and Collin Warren\, accomplished organist. \n\n\n\nFirst service begins at 8:30 am with the second service beginning at 10:30 am
X-ALT-DESC;FMTTYPE=text/html:United Methodist Church Thanksgiving Service&nbsp\; &quot\;We Gather Together&quot\; featuring Alex Sommerfeld\, accomplished pianist and Collin Warren\, accomplished organist.&nbsp\;<br />\n<br />\nFirst service begins at 8:30 am with the second service beginning at 10:30 am
LOCATION:Seward United Methodist Church 1400 North 5th St. Seward\, NE
UID:e.865.3407
SEQUENCE:3
DTSTAMP:20260421T191824Z
URL:https://business.cultivatesewardcounty.com/events/details/united-methodist-thanksgiving-service-we-gather-together-11-24-2013-3407
END:VEVENT

END:VCALENDAR
