BEGIN:VCALENDAR
VERSION:2.0
PRODID:-//ChamberMaster//Event Calendar 2.0//EN
METHOD:PUBLISH
X-PUBLISHED-TTL:P3D
REFRESH-INTERVAL:P3D
CALSCALE:GREGORIAN
BEGIN:VEVENT
DTSTART:20131019T140000Z
DTEND:20131019T220000Z
X-MICROSOFT-CDO-ALLDAYEVENT:FALSE
SUMMARY:United Methodist Ladies Auxiliary Bazaar
DESCRIPTION:United Methodist Women's Auxiliary Bazaar - A yearly event featuring unique handcrafted items and silent auction.  This year's silent auction will not only offer beautiful handcrafted items\, but also goods and services.
X-ALT-DESC;FMTTYPE=text/html:United Methodist Women&#39\;s Auxiliary Bazaar - A yearly event featuring unique handcrafted items and silent auction.&nbsp\; This year&#39\;s silent auction will not only offer beautiful handcrafted items\, but also goods and services.
LOCATION:Seward United Methodist Church 1400 North 5th St. Seward\, NE
UID:e.865.2872
SEQUENCE:3
DTSTAMP:20260421T192334Z
URL:https://business.cultivatesewardcounty.com/events/details/united-methodist-ladies-auxiliary-bazaar-10-19-2013-2872
END:VEVENT

END:VCALENDAR
