BEGIN:VCALENDAR
VERSION:2.0
PRODID:-//ChamberMaster//Event Calendar 2.0//EN
METHOD:PUBLISH
X-PUBLISHED-TTL:P3D
REFRESH-INTERVAL:P3D
CALSCALE:GREGORIAN
BEGIN:VEVENT
DTSTART:20131213T140000Z
DTEND:20131213T230000Z
X-MICROSOFT-CDO-ALLDAYEVENT:FALSE
SUMMARY:Union Bank Open House
DESCRIPTION:Union Bank Open House
X-ALT-DESC;FMTTYPE=text/html:Union Bank Open House
LOCATION:Union Bank 546 Jackson Avenue Seward\, NE
UID:e.865.3364
SEQUENCE:3
DTSTAMP:20260421T163024Z
URL:https://business.cultivatesewardcounty.com/events/details/union-bank-open-house-12-13-2013-3364
END:VEVENT

END:VCALENDAR
