BEGIN:VCALENDAR
VERSION:2.0
PRODID:-//ChamberMaster//Event Calendar 2.0//EN
METHOD:PUBLISH
X-PUBLISHED-TTL:P3D
REFRESH-INTERVAL:P3D
CALSCALE:GREGORIAN
BEGIN:VEVENT
DTSTART:20110826T170000Z
DTEND:20110826T180000Z
X-MICROSOFT-CDO-ALLDAYEVENT:FALSE
SUMMARY:Two Days for You
DESCRIPTION:Lunch and Learn - "The Gift of Life"\n\nwith Janet Bemis\, mother of organ donor.  \n\n\n\nThe Bemis family of Rising City lost their young son in 1984 to an accidental drowning and chose to donate his organs.  Janet will share her powerful story and decision to donate life.  Develop a better understanding about the donor registry and what it means to be a registered donor.
X-ALT-DESC;FMTTYPE=text/html:Lunch and Learn - &quot\;The Gift of Life&quot\;<br />\nwith Janet Bemis\, mother of organ donor.&nbsp\;&nbsp\;<br />\n<br />\nThe Bemis family of Rising City lost their young son in 1984 to an accidental drowning and chose to donate his organs.&nbsp\; Janet will share her powerful story and decision to donate life.&nbsp\; Develop a better understanding about the donor registry and what it means to be a registered donor.&nbsp\; 
LOCATION:Seward Family Medical Center Lower Level Conference Room
UID:e.865.1131
SEQUENCE:3
DTSTAMP:20260424T184945Z
URL:https://business.cultivatesewardcounty.com/events/details/two-days-for-you-08-26-2011-1131
END:VEVENT

END:VCALENDAR
