BEGIN:VCALENDAR
VERSION:2.0
PRODID:-//ChamberMaster//Event Calendar 2.0//EN
METHOD:PUBLISH
X-PUBLISHED-TTL:P3D
REFRESH-INTERVAL:P3D
CALSCALE:GREGORIAN
BEGIN:VEVENT
DTSTART:20110825T170000Z
DTEND:20110825T180000Z
X-MICROSOFT-CDO-ALLDAYEVENT:FALSE
SUMMARY:Two Days for You
DESCRIPTION:Lunch and Learn - "Vascular Insufficiency"\n\nwith Robert J. Pitsch\, MD\, Vascular Surgeon\n\n\n\nPhysicians can suspect vascular insufficiency (inadequate blood flow) if a patient has skin mottling\, swelling\, tingling\, muscle pain\, or more serious ulcers and muscle atrophy.  Dr. Robert Pitsch will talk about causes\, types\, symptoms and treatment of vascular insufficiency.
X-ALT-DESC;FMTTYPE=text/html:Lunch and Learn - &quot\;Vascular Insufficiency&quot\;<br />\nwith Robert J. Pitsch\, MD\, Vascular Surgeon<br />\n<br />\nPhysicians can suspect vascular insufficiency (inadequate blood flow) if a patient has skin mottling\, swelling\, tingling\, muscle pain\, or more serious ulcers and muscle atrophy.&nbsp\; Dr. Robert Pitsch will talk about causes\, types\, symptoms and treatment of vascular insufficiency.&nbsp\; 
LOCATION:Seward Family Medical Center Lower Level Conference Room
UID:e.865.1130
SEQUENCE:3
DTSTAMP:20260424T184928Z
URL:https://business.cultivatesewardcounty.com/events/details/two-days-for-you-08-25-2011-1130
END:VEVENT

END:VCALENDAR
