BEGIN:VCALENDAR
VERSION:2.0
PRODID:-//ChamberMaster//Event Calendar 2.0//EN
METHOD:PUBLISH
X-PUBLISHED-TTL:P3D
REFRESH-INTERVAL:P3D
CALSCALE:GREGORIAN
BEGIN:VEVENT
DTSTART:20110724T233000Z
DTEND:20110725T003000Z
X-MICROSOFT-CDO-ALLDAYEVENT:FALSE
SUMMARY:Travels in Turkey presented by Bruce Creed and Lynn Soloway
DESCRIPTION:Bruce Creed and Lynn Soloway from Concordia University will give a 45 minutes presentation and share photographs and stories from their travels in Turkey.  Refreshments will be served and everyone is welcome.
X-ALT-DESC;FMTTYPE=text/html:Bruce Creed and Lynn Soloway from Concordia University will give a 45 minutes presentation and share photographs and stories from their travels in Turkey.&nbsp\; Refreshments will be served and everyone is welcome.&nbsp\;&nbsp\; 
LOCATION:Seward Memorial Library 233 S. 5th St.
UID:e.865.1122
SEQUENCE:3
DTSTAMP:20260424T203848Z
URL:https://business.cultivatesewardcounty.com/events/details/travels-in-turkey-presented-by-bruce-creed-and-lynn-soloway-07-24-2011-1122
END:VEVENT

END:VCALENDAR
