BEGIN:VCALENDAR
VERSION:2.0
PRODID:-//ChamberMaster//Event Calendar 2.0//EN
METHOD:PUBLISH
X-PUBLISHED-TTL:P3D
REFRESH-INTERVAL:P3D
CALSCALE:GREGORIAN
BEGIN:VEVENT
DTSTART:20130421T233000Z
DTEND:20130422T010000Z
X-MICROSOFT-CDO-ALLDAYEVENT:FALSE
SUMMARY:Travelogue: see Naples and Sicily Italy with Bruce Creed and Lynn Soloway
DESCRIPTION:Travel to southern Italy and see Naples and Sicily with Bruce Creed and Lynn Soloway.  Find out why Verdi said\, "You may have the universe\, if I may have Italy."
X-ALT-DESC;FMTTYPE=text/html:Travel to southern Italy and see Naples and Sicily with Bruce Creed and Lynn Soloway.&nbsp\; Find out why Verdi said\, &quot\;You may have the universe\, if I may have Italy.&quot\;
LOCATION:Seward Memorial Library Meeting Room 233 South 5th St. Seward
UID:e.865.2067
SEQUENCE:3
DTSTAMP:20260422T032123Z
URL:https://business.cultivatesewardcounty.com/events/details/travelogue-see-naples-and-sicily-italy-with-bruce-creed-and-lynn-soloway-04-21-2013-2067
END:VEVENT

END:VCALENDAR
