BEGIN:VCALENDAR
VERSION:2.0
PRODID:-//ChamberMaster//Event Calendar 2.0//EN
METHOD:PUBLISH
X-PUBLISHED-TTL:P3D
REFRESH-INTERVAL:P3D
CALSCALE:GREGORIAN
BEGIN:VEVENT
DTSTART:20140729T000000Z
DTEND:20140729T010000Z
X-MICROSOFT-CDO-ALLDAYEVENT:FALSE
SUMMARY:The String Beans Concert beginning at 7:00 \;pm at the Seward Bandshell
DESCRIPTION:The String Beans Concert beginning at 7:00 \;pm at the Seward Bandshell\n\nhttp://www.sewardlibrary.org
X-ALT-DESC;FMTTYPE=text/html:The String Beans Concert beginning at 7:00 \;pm at the Seward Bandshell<br />\n<a href="http://www.sewardlibrary.org">http://www.sewardlibrary.org</a>
LOCATION:Seward Bandshell Corner of 5th St. & Jackson Ave. Seward\, NE
UID:e.865.3970
SEQUENCE:3
DTSTAMP:20260421T084144Z
URL:https://business.cultivatesewardcounty.com/events/details/the-string-beans-concert-beginning-at-7-00-pm-at-the-seward-bandshell-07-28-2014-3970
END:VEVENT

END:VCALENDAR
