BEGIN:VCALENDAR
VERSION:2.0
PRODID:-//ChamberMaster//Event Calendar 2.0//EN
METHOD:PUBLISH
X-PUBLISHED-TTL:P3D
REFRESH-INTERVAL:P3D
CALSCALE:GREGORIAN
BEGIN:VEVENT
DTSTART:20120209T010000Z
DTEND:20120209T020000Z
X-MICROSOFT-CDO-ALLDAYEVENT:FALSE
SUMMARY:The Meeting performance
DESCRIPTION:Concordia will host a staged reading of the short play The Meeting in honor of Black History Month. The performance will take place in the Thom Leadership Education Center auditorium on Wednesday\,  Feb. 8\, at 7 p.m. The event is free and open to the public.\n\n\n\nThe one-act play written by Jeff Stetson captures a hypothetical dialogue between Malcolm X and Martin Luther King\, Jr. one week prior to Malcolm X's assassination in 1965. It explores the similar views as wells as differences in opinions between these two civil rights leaders.\n\n\n\nDirector of theatre Bryan Moore will participate in the readings along with students Patrick Tyrance III\, senior\, Lincoln\, Neb.\, and Charles Washington\, senior\, Houston\, Texas.
X-ALT-DESC;FMTTYPE=text/html:Concordia will host a staged reading of the short play The Meeting in honor of Black History Month. The performance will take place in the Thom Leadership Education Center auditorium on Wednesday\, &nbsp\;Feb. 8\, at 7 p.m. The event is free and open to the public.<br />\n<br />\nThe one-act play written by Jeff Stetson captures a hypothetical dialogue between Malcolm X and Martin Luther King\, Jr. one week prior to Malcolm X&rsquo\;s assassination in 1965. It explores the similar views as wells as differences in opinions between these two civil rights leaders.<br />\n<br />\nDirector of theatre Bryan Moore will participate in the readings along with students Patrick Tyrance III\, senior\, Lincoln\, Neb.\, and Charles Washington\, senior\, Houston\, Texas.<br />\n
LOCATION:TLEC auditorium\, Concordia University
UID:e.865.1353
SEQUENCE:3
DTSTAMP:20260424T095718Z
URL:https://business.cultivatesewardcounty.com/events/details/the-meeting-performance-02-08-2012-1353
END:VEVENT

END:VCALENDAR
