BEGIN:VCALENDAR
VERSION:2.0
PRODID:-//ChamberMaster//Event Calendar 2.0//EN
METHOD:PUBLISH
X-PUBLISHED-TTL:P3D
REFRESH-INTERVAL:P3D
CALSCALE:GREGORIAN
BEGIN:VEVENT
DTSTART:20120202T010000Z
DTEND:20120202T020000Z
X-MICROSOFT-CDO-ALLDAYEVENT:FALSE
SUMMARY:The Meeting performance
DESCRIPTION:Location: TLEC auditorium\n\n\n\nWritten by Jeff Stetson\, "The Meeting" is a hypothetical dialogue between Malcolm X and Martin Luther King Jr. just before Malcolm X's assassination. This three-person play will be performed as a stage reading. No tickets required.
X-ALT-DESC;FMTTYPE=text/html:Location: TLEC auditorium<br />\n<br />\nWritten by Jeff Stetson\, &quot\;The Meeting&quot\; is a hypothetical dialogue between Malcolm X and Martin Luther King Jr. just before Malcolm X&#39\;s assassination. This three-person play will be performed as a stage reading. No tickets required.&nbsp\;
LOCATION:Thom Leadership Education Center auditorium\, Concordia University
UID:e.865.1352
SEQUENCE:3
DTSTAMP:20260424T095637Z
URL:https://business.cultivatesewardcounty.com/events/details/the-meeting-performance-02-01-2012-1352
END:VEVENT

END:VCALENDAR
