BEGIN:VCALENDAR
VERSION:2.0
PRODID:-//ChamberMaster//Event Calendar 2.0//EN
METHOD:PUBLISH
X-PUBLISHED-TTL:P3D
REFRESH-INTERVAL:P3D
CALSCALE:GREGORIAN
BEGIN:VEVENT
DTSTART:20130327T010000Z
DTEND:20130327T020000Z
X-MICROSOFT-CDO-ALLDAYEVENT:FALSE
SUMMARY:The Living Last Supper
DESCRIPTION:The Seward United Methodist Church presents "The Living Last Supper."  The program is presented by local individuals portraying the Disciples in the painting of the Last Supper.  This is event is open to everyone!
X-ALT-DESC;FMTTYPE=text/html:The Seward United Methodist Church presents &quot\;The Living Last Supper.&quot\;&nbsp\; The program is presented by local individuals portraying the Disciples in the painting of the Last Supper.&nbsp\; This is event is open to everyone!
LOCATION:Seward United Methodist Church 1400 North 5th St. Seward\, NE
UID:e.865.1926
SEQUENCE:3
DTSTAMP:20260422T055005Z
URL:https://business.cultivatesewardcounty.com/events/details/the-living-last-supper-03-26-2013-1926
END:VEVENT

END:VCALENDAR
