BEGIN:VCALENDAR
VERSION:2.0
PRODID:-//ChamberMaster//Event Calendar 2.0//EN
METHOD:PUBLISH
X-PUBLISHED-TTL:P3D
REFRESH-INTERVAL:P3D
CALSCALE:GREGORIAN
BEGIN:VEVENT
DTSTART:20120401T190000Z
DTEND:20120401T210000Z
X-MICROSOFT-CDO-ALLDAYEVENT:FALSE
SUMMARY:The Importance of Being Earnest performance
DESCRIPTION:Oscar Wilde's farcical\, "trivial comedy for serious people." This student-directed production will be performed at the Seward Civic Center. Admission is free.\n\n\n\nThe Importance of Being Earnest is sponsored by Memorial Health Care Services.
X-ALT-DESC;FMTTYPE=text/html:Oscar Wilde&rsquo\;s farcical\, &ldquo\;trivial comedy for serious people.&rdquo\; This student-directed production will be performed at the Seward Civic Center. Admission is free.<br />\n<br />\nThe Importance of Being Earnest is sponsored by Memorial Health Care Services.
LOCATION:Seward Civic Center
UID:e.865.1368
SEQUENCE:3
DTSTAMP:20260422T201417Z
URL:https://business.cultivatesewardcounty.com/events/details/the-importance-of-being-earnest-performance-04-01-2012-1368
END:VEVENT

END:VCALENDAR
