BEGIN:VCALENDAR
VERSION:2.0
PRODID:-//ChamberMaster//Event Calendar 2.0//EN
METHOD:PUBLISH
X-PUBLISHED-TTL:P3D
REFRESH-INTERVAL:P3D
CALSCALE:GREGORIAN
BEGIN:VEVENT
DTSTART:20110813T220000Z
DTEND:20110813T230000Z
X-MICROSOFT-CDO-ALLDAYEVENT:FALSE
SUMMARY:The Great Seward County Duck Race
DESCRIPTION:Come join us for the 2011 Seward County Duck Race!!\n\n\n\n5pm at the Seward Dowding Swimming Pool beside the Fairgrounds.  Watch as your duck races to the finish line hoping for that GRAND PRIZE!!\n\n\n\nGrand Prize:  2 Tickets to the Nebraska/Wisconsin Football Game in Madison\, WI on Oct 1st!\n\nPrize includes airfare\, hotel\, tickets and spending money.\n\n\n\nThere are 24 other great prizes being given away as well - just in case your duck wasn't quite up to the task of #1!!   Click on the link on the Seward Chamber of Commerce home page (www.sewardne.com) for more details.
X-ALT-DESC;FMTTYPE=text/html:<span style="font-family: tahoma"><span style="font-size: 14px"><strong>Come join us for the 2011 Seward County Duck Race!!</strong><br />\n<br />\n5pm at the Seward Dowding Swimming Pool beside the Fairgrounds.&nbsp\; Watch as your duck races to the finish line hoping for that GRAND PRIZE!!<br />\n<br />\nGrand Prize:&nbsp\; 2 Tickets to the Nebraska/Wisconsin Football Game in Madison\, WI on Oct 1st!<br />\nPrize includes airfare\, hotel\, tickets and spending money.<br />\n<br />\nThere are 24 other great prizes being given away as well - just in case your duck wasn&#39\;t quite up to the task of #1!!&nbsp\;&nbsp\; Click on the link on the Seward Chamber of Commerce home page (<a href="http://www.sewardne.com">www.sewardne.com</a>) for more details.</span></span>
LOCATION:Seward Dowding Pool Seward\, Nebraska Next to Seward County Fairgrounds
UID:e.865.1137
SEQUENCE:3
DTSTAMP:20260424T185122Z
URL:https://business.cultivatesewardcounty.com/events/details/the-great-seward-county-duck-race-08-13-2011-1137
END:VEVENT

END:VCALENDAR
