BEGIN:VCALENDAR
VERSION:2.0
PRODID:-//ChamberMaster//Event Calendar 2.0//EN
METHOD:PUBLISH
X-PUBLISHED-TTL:P3D
REFRESH-INTERVAL:P3D
CALSCALE:GREGORIAN
BEGIN:VEVENT
DTSTART:20140329T003000Z
DTEND:20140331T023000Z
X-MICROSOFT-CDO-ALLDAYEVENT:FALSE
SUMMARY:The Glass Menagerie Performance
DESCRIPTION:The Glass Menagerie Performance\n\n\n\nhttp://www.cune.edu
X-ALT-DESC;FMTTYPE=text/html:The Glass Menagerie Performance<br />\n<br />\n<a href="http://www.cune.edu">http://www.cune.edu</a>
LOCATION:Concordia University Studio Theatre\, Music Center 800 North Columbia (main campus) Seward\, NE
UID:e.865.3519
SEQUENCE:3
DTSTAMP:20260421T130243Z
URL:https://business.cultivatesewardcounty.com/events/details/the-glass-menagerie-performance-03-28-2014-3519
END:VEVENT

END:VCALENDAR
