BEGIN:VCALENDAR
VERSION:2.0
PRODID:-//ChamberMaster//Event Calendar 2.0//EN
METHOD:PUBLISH
X-PUBLISHED-TTL:P3D
REFRESH-INTERVAL:P3D
CALSCALE:GREGORIAN
BEGIN:VEVENT
DTSTART:20140628T000000Z
DTEND:20140628T010000Z
X-MICROSOFT-CDO-ALLDAYEVENT:FALSE
SUMMARY:The Backroads Acoustics Duo
DESCRIPTION:The Backroads Acoustics Duo
X-ALT-DESC;FMTTYPE=text/html:The Backroads Acoustics Duo
LOCATION:Red Path Gallery\, 514 Seward St
UID:e.865.3936
SEQUENCE:3
DTSTAMP:20260421T083830Z
URL:https://business.cultivatesewardcounty.com/events/details/the-backroads-acoustics-duo-06-27-2014-3936
END:VEVENT

END:VCALENDAR
