BEGIN:VCALENDAR
VERSION:2.0
PRODID:-//ChamberMaster//Event Calendar 2.0//EN
METHOD:PUBLISH
X-PUBLISHED-TTL:P3D
REFRESH-INTERVAL:P3D
CALSCALE:GREGORIAN
BEGIN:VEVENT
DTSTART:20131215T000000Z
DTEND:20131215T055500Z
X-MICROSOFT-CDO-ALLDAYEVENT:FALSE
SUMMARY:Tabletop Game Night held monthly
DESCRIPTION:Tabletop Game Night  - held monthly at the Concordia Link Library.  This is open to individuals from middle school to senior citizens.  Anyone interested in learning new card and board games and meeting people to play with is welcome to attend.
X-ALT-DESC;FMTTYPE=text/html:Tabletop Game Night&nbsp\; - held monthly at the Concordia Link Library.&nbsp\; This is open to individuals from middle school to senior citizens.&nbsp\; Anyone interested in learning new card and board games and meeting people to play with is welcome to attend.&nbsp\; 
LOCATION:Concordia University Link Library 800 North Columbia Seward\, NE
UID:e.865.2919
SEQUENCE:3
DTSTAMP:20260421T162808Z
URL:https://business.cultivatesewardcounty.com/events/details/tabletop-game-night-held-monthly-12-14-2013-2919
END:VEVENT

END:VCALENDAR
