BEGIN:VCALENDAR
VERSION:2.0
PRODID:-//ChamberMaster//Event Calendar 2.0//EN
METHOD:PUBLISH
X-PUBLISHED-TTL:P3D
REFRESH-INTERVAL:P3D
CALSCALE:GREGORIAN
BEGIN:VEVENT
DTSTART:20110711T140000Z
DTEND:20110711T213000Z
X-MICROSOFT-CDO-ALLDAYEVENT:FALSE
SUMMARY:Tabitha Hospice Volunteer Training
DESCRIPTION:Volunteering is a great way to help make a difference in your community and hospice volunteers are an essential part of hospice care.  Tabitha Health Care Services will offer training for prospective hospice volunteers.  Participants must complete the two-day workshop to serve as a hospice volunteer.  This training is free and open to the public.  Many hospice clients and their families have benefited from a volunteer's friendship and support.  Volunteers also provide respite care\, shopping\, light housekeeping\, transportation and help with daily tasks.  Space is limited.  Please register today by calling (402) 362-7739\, (800)286-9074 or email CaseyS@Tabitha.org.
X-ALT-DESC;FMTTYPE=text/html:Volunteering is a great way to help make a difference in your community and hospice volunteers are an essential part of hospice care.&nbsp\; Tabitha Health Care Services will offer training for prospective hospice volunteers.&nbsp\; Participants must complete the two-day workshop to serve as a hospice volunteer.&nbsp\; This training is free and open to the public.&nbsp\; Many hospice clients and their families have benefited from a volunteer&#39\;s friendship and support.&nbsp\; Volunteers also provide respite care\, shopping\, light housekeeping\, transportation and help with daily tasks.&nbsp\; <strong>Space is limited.&nbsp\; Please register today by calling (402) 362-7739\, (800)286-9074 or email <a href="mailto:CaseyS@Tabitha.org">CaseyS@Tabitha.org</a>.</strong>
LOCATION:Seward Civic Center 616 Bradford Seward\, NE
UID:e.865.1108
SEQUENCE:3
DTSTAMP:20260424T202408Z
URL:https://business.cultivatesewardcounty.com/events/details/tabitha-hospice-volunteer-training-07-11-2011-1108
END:VEVENT

END:VCALENDAR
