BEGIN:VCALENDAR
VERSION:2.0
PRODID:-//ChamberMaster//Event Calendar 2.0//EN
METHOD:PUBLISH
X-PUBLISHED-TTL:P3D
REFRESH-INTERVAL:P3D
CALSCALE:GREGORIAN
BEGIN:VEVENT
DTSTART:20121028T200000Z
DTEND:20121028T220000Z
X-MICROSOFT-CDO-ALLDAYEVENT:FALSE
SUMMARY:Symphonic Band & Concert Band Concert
DESCRIPTION:The Symphonic Band was formed in 1906 and is the oldest continuing musical organization at Concordia. The ensemble has undertaken vigorous concert programs emphasizing sacred\, multicultural and contemporary literature in addition to the traditional concert band repertoire. The Symphonic Band\, Concordia's premier instrumental organization\, tours throughout the United States.\n\n\n\nThe University Concert Band is an outreach to the community and is made up of students and area community members.
X-ALT-DESC;FMTTYPE=text/html:<span style="color: rgb(0\, 0\, 0)\; font-family: 'Times New Roman'\; font-size: medium\; ">The Symphonic Band was formed in 1906 and is the oldest continuing musical organization at Concordia. The ensemble has undertaken vigorous concert programs emphasizing sacred\, multicultural and contemporary literature in addition to the traditional concert band repertoire. The Symphonic Band\, Concordia&rsquo\;s premier instrumental organization\, tours throughout the United States.</span><br />\n<br />\n<span style="color: rgb(0\, 0\, 0)\; font-family: 'Times New Roman'\; font-size: medium\; ">The University Concert Band is an outreach to the community and is made up of students and area community members.</span>
LOCATION:St. John Lutheran Church
UID:e.865.1720
SEQUENCE:3
DTSTAMP:20260422T113539Z
URL:https://business.cultivatesewardcounty.com/events/details/symphonic-band-concert-band-concert-10-28-2012-1720
END:VEVENT

END:VCALENDAR
