BEGIN:VCALENDAR
VERSION:2.0
PRODID:-//ChamberMaster//Event Calendar 2.0//EN
METHOD:PUBLISH
X-PUBLISHED-TTL:P3D
REFRESH-INTERVAL:P3D
CALSCALE:GREGORIAN
BEGIN:VEVENT
DTSTART:20140413T200000Z
DTEND:20140413T210000Z
X-MICROSOFT-CDO-ALLDAYEVENT:FALSE
SUMMARY:Symphonic Band Concert
DESCRIPTION:Symphonic Band Concert by Concordia University students   -  public welcome\n\n\n\nhttp://www.cune.edu
X-ALT-DESC;FMTTYPE=text/html:Symphonic Band Concert&nbsp\;by Concordia University students&nbsp\;&nbsp\; -&nbsp\; public welcome<br />\n<br />\n<a href="http://www.cune.edu">http://www.cune.edu</a>
LOCATION:St. John Lutheran Church 919 North Columbia Seward\, NE
UID:e.865.3533
SEQUENCE:3
DTSTAMP:20260421T124736Z
URL:https://business.cultivatesewardcounty.com/events/details/symphonic-band-concert-04-13-2014-3533
END:VEVENT

END:VCALENDAR
