BEGIN:VCALENDAR
VERSION:2.0
PRODID:-//ChamberMaster//Event Calendar 2.0//EN
METHOD:PUBLISH
X-PUBLISHED-TTL:P3D
REFRESH-INTERVAL:P3D
CALSCALE:GREGORIAN
BEGIN:VEVENT
DTSTART:20111208T230000Z
DTEND:20111209T020000Z
X-MICROSOFT-CDO-ALLDAYEVENT:FALSE
SUMMARY:Sweet Treats & Sweet Deals
DESCRIPTION:Visit the merchants on the Square in downtown Seward for sweet treats and sweet deals on all your holiday shopping needs during our downtown Open House from 5-8 p.m. Thursday\, Dec. 8
X-ALT-DESC;FMTTYPE=text/html:Visit the merchants on the Square in downtown Seward for sweet treats and sweet deals on all your holiday shopping needs during our downtown Open House from 5-8 p.m. Thursday\, Dec. 8
LOCATION:Allure\, Blue River Jewelry\, Chapters\, JD's Coffee Shop\, Hall of Cards\, Mueri Drug\, Panama\, Second Closet\, & US Cellular
UID:e.865.1190
SEQUENCE:3
DTSTAMP:20260424T124925Z
URL:https://business.cultivatesewardcounty.com/events/details/sweet-treats-sweet-deals-12-08-2011-1190
END:VEVENT

END:VCALENDAR
