BEGIN:VCALENDAR
VERSION:2.0
PRODID:-//ChamberMaster//Event Calendar 2.0//EN
METHOD:PUBLISH
X-PUBLISHED-TTL:P3D
REFRESH-INTERVAL:P3D
CALSCALE:GREGORIAN
BEGIN:VEVENT
DTSTART;VALUE=DATE:20130617
DTEND;VALUE=DATE:20130622
TRANSP:TRANSPARENT
X-MICROSOFT-CDO-ALLDAYEVENT:TRUE
SUMMARY:Summer Horizon Classes for Kids St. John Lutheran School
DESCRIPTION:Summer Horizon Classes for Kids at St. John Lutheran School  -  Pre-registration is  REQUIRED
X-ALT-DESC;FMTTYPE=text/html:Summer Horizon Classes for Kids at St. John Lutheran School&nbsp\; -&nbsp\; Pre-registration is&nbsp\;&nbsp\;REQUIRED 
LOCATION:St. John Lutheran School 919 North Columbia Seward\, NE
UID:e.865.2739
SEQUENCE:3
DTSTAMP:20260422T002953Z
URL:https://business.cultivatesewardcounty.com/events/details/summer-horizon-classes-for-kids-st-john-lutheran-school-06-17-2013-2739
END:VEVENT

END:VCALENDAR
