BEGIN:VCALENDAR
VERSION:2.0
PRODID:-//ChamberMaster//Event Calendar 2.0//EN
METHOD:PUBLISH
X-PUBLISHED-TTL:P3D
REFRESH-INTERVAL:P3D
CALSCALE:GREGORIAN
BEGIN:VEVENT
DTSTART:20131206T210000Z
DTEND:20131207T010000Z
X-MICROSOFT-CDO-ALLDAYEVENT:FALSE
SUMMARY:Stuff the Cruiser - in front of Wal-Mart
DESCRIPTION:Stuff the Cruiser  -  in front of the Wal-Mart store.  Bring toys and clothes to be given to under privileged children.
X-ALT-DESC;FMTTYPE=text/html:Stuff the Cruiser&nbsp\; -&nbsp\; in front of the Wal-Mart store.&nbsp\; Bring toys and clothes to be given to under privileged children.
LOCATION:Seward Wal-Mart 1326 280th Rd - Hwy 15 - south of Seward Seward\, NE
UID:e.865.3417
SEQUENCE:3
DTSTAMP:20260421T163024Z
URL:https://business.cultivatesewardcounty.com/events/details/stuff-the-cruiser-in-front-of-wal-mart-12-06-2013-3417
END:VEVENT

END:VCALENDAR
