BEGIN:VCALENDAR
VERSION:2.0
PRODID:-//ChamberMaster//Event Calendar 2.0//EN
METHOD:PUBLISH
X-PUBLISHED-TTL:P3D
REFRESH-INTERVAL:P3D
CALSCALE:GREGORIAN
BEGIN:VEVENT
DTSTART:20131207T170000Z
DTEND:20131207T210000Z
X-MICROSOFT-CDO-ALLDAYEVENT:FALSE
SUMMARY:Stuff the Cruiser - collection in front of Wal-Mart
DESCRIPTION:Stuff the Cruiser Event in front of  Wal-Mart from 11:00 am to 3:00 pm  -  bring toys and clothes to be given to under privileged children.
X-ALT-DESC;FMTTYPE=text/html:Stuff the Cruiser Event in front of&nbsp\; Wal-Mart from&nbsp\;11:00 am&nbsp\;to 3:00 pm&nbsp\; -&nbsp\; bring toys and clothes to be given to under privileged children.
LOCATION:Wal-Mart 1326 280th Rd - Hwy 15 - south of Seward Seward\, NE
UID:e.865.3411
SEQUENCE:3
DTSTAMP:20260421T163127Z
URL:https://business.cultivatesewardcounty.com/events/details/stuff-the-cruiser-collection-in-front-of-wal-mart-12-07-2013-3411
END:VEVENT

END:VCALENDAR
