BEGIN:VCALENDAR
VERSION:2.0
PRODID:-//ChamberMaster//Event Calendar 2.0//EN
METHOD:PUBLISH
X-PUBLISHED-TTL:P3D
REFRESH-INTERVAL:P3D
CALSCALE:GREGORIAN
BEGIN:VEVENT
DTSTART:20120727T000000Z
DTEND:20120727T010000Z
X-MICROSOFT-CDO-ALLDAYEVENT:FALSE
SUMMARY:String Beans Concerts
DESCRIPTION:The energetic musical group from Lincoln is returning with more songs and entertainment for the Summer Reading Club finale. Families are invited to join the interactive concert by the String Beans on Thursday\, July 26 at 7pm at the Seward Bandshell. Children in the Reading Club will be recognized and awards will be given out during the one-hour program. Lots of great music\, and ice cream service by the Friends of Seward Library\, make this an event you won't want to miss.
X-ALT-DESC;FMTTYPE=text/html:The energetic musical group from Lincoln is returning with more songs and entertainment for the Summer Reading Club finale. Families are invited to join the interactive concert by the String Beans on Thursday\, July 26 at 7pm at the Seward Bandshell. Children in the Reading Club will be recognized and awards will be given out during the one-hour program. Lots of great music\, and ice cream service by the Friends of Seward Library\, make this an event you won&#39\;t want to miss.
LOCATION:Seward Bandshell
UID:e.865.1675
SEQUENCE:3
DTSTAMP:20260422T170044Z
URL:https://business.cultivatesewardcounty.com/events/details/string-beans-concerts-07-26-2012-1675
END:VEVENT

END:VCALENDAR
