BEGIN:VCALENDAR
VERSION:2.0
PRODID:-//ChamberMaster//Event Calendar 2.0//EN
METHOD:PUBLISH
X-PUBLISHED-TTL:P3D
REFRESH-INTERVAL:P3D
CALSCALE:GREGORIAN
BEGIN:VEVENT
DTSTART:20130724T000000Z
DTEND:20130724T010000Z
X-MICROSOFT-CDO-ALLDAYEVENT:FALSE
SUMMARY:String Beans Concert
DESCRIPTION:String Beans Concert sponsored by Runza National and Seward Memorial Library\n\n\n\nwww.sewardlibrary.org
X-ALT-DESC;FMTTYPE=text/html:String Beans Concert sponsored by Runza National and Seward Memorial Library<br />\n<br />\n<a href="http://www.sewardlibrary.org">www.sewardlibrary.org</a>
LOCATION:Seward Bandshell 5th St. & Jackson Avenue Seward\, NE
UID:e.865.2841
SEQUENCE:3
DTSTAMP:20260421T230911Z
URL:https://business.cultivatesewardcounty.com/events/details/string-beans-concert-07-23-2013-2841
END:VEVENT

END:VCALENDAR
