BEGIN:VCALENDAR
VERSION:2.0
PRODID:-//ChamberMaster//Event Calendar 2.0//EN
METHOD:PUBLISH
X-PUBLISHED-TTL:P3D
REFRESH-INTERVAL:P3D
CALSCALE:GREGORIAN
BEGIN:VEVENT
DTSTART:20140413T140000Z
DTEND:20140413T230000Z
X-MICROSOFT-CDO-ALLDAYEVENT:FALSE
SUMMARY:Storm Friendly Softball Tournament
DESCRIPTION:Storm Friendly Softball Tournament\n\n\n\nAges 12u\, 14u\, 16u & 18u
X-ALT-DESC;FMTTYPE=text/html:Storm Friendly Softball Tournament<br type="_moz" />\n<br />\nAges 12u\, 14u\, 16u &amp\; 18u<br type="_moz" />\n
LOCATION:Plum Creek Sports Complex 2222 Karol Kay Blvd. Seward\, NE
UID:e.865.3541
SEQUENCE:3
DTSTAMP:20260421T112919Z
URL:https://business.cultivatesewardcounty.com/events/details/storm-friendly-softball-tournament-04-13-2014-3541
END:VEVENT

END:VCALENDAR
