BEGIN:VCALENDAR
VERSION:2.0
PRODID:-//ChamberMaster//Event Calendar 2.0//EN
METHOD:PUBLISH
X-PUBLISHED-TTL:P3D
REFRESH-INTERVAL:P3D
CALSCALE:GREGORIAN
BEGIN:VEVENT
DTSTART:20140406T140000Z
DTEND:20140406T230000Z
X-MICROSOFT-CDO-ALLDAYEVENT:FALSE
SUMMARY:Storm Friendly Softball Tournament
DESCRIPTION:Storm Friendly Softball Tournament\n\n	\n\n	Ages 12u\, 14u\, 16u and 18u
X-ALT-DESC;FMTTYPE=text/html:<p>\n	Storm Friendly Softball Tournament<br />\n	<br />\n	Ages 12u\, 14u\, 16u and 18u</p>\n
LOCATION:Plum Creek Sports Complex 2222 Karol Kay Blvd. Seward\, NE
UID:e.865.3540
SEQUENCE:3
DTSTAMP:20260421T112919Z
URL:https://business.cultivatesewardcounty.com/events/details/storm-friendly-softball-tournament-04-06-2014-3540
END:VEVENT

END:VCALENDAR
