BEGIN:VCALENDAR
VERSION:2.0
PRODID:-//ChamberMaster//Event Calendar 2.0//EN
METHOD:PUBLISH
X-PUBLISHED-TTL:P3D
REFRESH-INTERVAL:P3D
CALSCALE:GREGORIAN
BEGIN:VEVENT
DTSTART:20130228T184500Z
DTEND:20130228T200000Z
X-MICROSOFT-CDO-ALLDAYEVENT:FALSE
SUMMARY:Statehood Festival David Seay - History of Music
DESCRIPTION:History of Music
X-ALT-DESC;FMTTYPE=text/html:History of Music&nbsp\; 
LOCATION:Civic Center
UID:e.865.1755
SEQUENCE:3
DTSTAMP:20260422T071355Z
URL:https://business.cultivatesewardcounty.com/events/details/statehood-festival-david-seay-history-of-music-02-28-2013-1755
END:VEVENT

END:VCALENDAR
