BEGIN:VCALENDAR
VERSION:2.0
PRODID:-//ChamberMaster//Event Calendar 2.0//EN
METHOD:PUBLISH
X-PUBLISHED-TTL:P3D
REFRESH-INTERVAL:P3D
CALSCALE:GREGORIAN
BEGIN:VEVENT
DTSTART:20131212T200000Z
DTEND:20131212T233000Z
X-MICROSOFT-CDO-ALLDAYEVENT:FALSE
SUMMARY:State Farm Insurance - Brenda Henning - Open house
DESCRIPTION:State Farm Insurance - Brenda Henning - Open House\n\nhttp://www.statefarm.com/agent/US/NE/Seward/Brenda-Henning-XJ5XQ1YS000
X-ALT-DESC;FMTTYPE=text/html:State Farm Insurance - Brenda Henning - Open House<br />\n<a href="http://www.statefarm.com/agent/US/NE/Seward/Brenda-Henning-XJ5XQ1YS000">http://www.statefarm.com/agent/US/NE/Seward/Brenda-Henning-XJ5XQ1YS000</a>
LOCATION:State Farm Insurance 23 Main Street Seward\, NE
UID:e.865.3360
SEQUENCE:3
DTSTAMP:20260421T163152Z
URL:https://business.cultivatesewardcounty.com/events/details/state-farm-insurance-brenda-henning-open-house-12-12-2013-3360
END:VEVENT

END:VCALENDAR
